BEGIN:VCALENDAR
VERSION:2.0
PRODID:-// - ECPv5.2.1//NONSGML v1.0//EN
CALSCALE:GREGORIAN
METHOD:PUBLISH
X-ORIGINAL-URL:http://myvintagelove.com
X-WR-CALDESC:Events for 
BEGIN:VTIMEZONE
TZID:America/New_York
BEGIN:DAYLIGHT
TZOFFSETFROM:-0500
TZOFFSETTO:-0400
TZNAME:EDT
DTSTART:20160313T070000
END:DAYLIGHT
BEGIN:STANDARD
TZOFFSETFROM:-0400
TZOFFSETTO:-0500
TZNAME:EST
DTSTART:20161106T060000
END:STANDARD
END:VTIMEZONE
BEGIN:VEVENT
DTSTART;TZID=America/New_York:20160130T200000
DTEND;TZID=America/New_York:20160130T235500
DTSTAMP:20260420T184812
CREATED:20151203T205425Z
LAST-MODIFIED:20151203T205425Z
UID:881-1454184000-1454198100@myvintagelove.com
SUMMARY:Wit's End: A Night at the Knickerbocker Hotel
DESCRIPTION:Wit’s End bills itself as “New York City’s longest-running monthly vintage dance party”\, and one I’ve been attending since its beginning in 2009. Their next party will be in a new\, and swankier location\, St. Cloud at the Knickerbocker Hotel\, on January 30\, 2106. \nMichael Arenella will be playing with his band\, DJ Mike Will Cut You will be spinning vintage music from his extensive and awesome collection\, and there will be a dance lesson at 9:30pm. The band starts at 10pm.  There will be a special cocktail menu\, so you can sip cocktails while you enjoy the views from the rooftop lounge the 16th floor. \nThis promises to be a fantastic party! Hope to see you there! \n 
URL:http://myvintagelove.com/event/wits-end-a-night-at-the-knickerbocker-hotel/
LOCATION:St. Cloud at the Knickerbocker Hotel\, 6 Times Square\, New York\, 10036\, United States
END:VEVENT
END:VCALENDAR