BEGIN:VCALENDAR
VERSION:2.0
PRODID:-// - ECPv5.2.1//NONSGML v1.0//EN
CALSCALE:GREGORIAN
METHOD:PUBLISH
X-ORIGINAL-URL:http://myvintagelove.com
X-WR-CALDESC:Events for 
BEGIN:VTIMEZONE
TZID:America/New_York
BEGIN:DAYLIGHT
TZOFFSETFROM:-0500
TZOFFSETTO:-0400
TZNAME:EDT
DTSTART:20160313T070000
END:DAYLIGHT
BEGIN:STANDARD
TZOFFSETFROM:-0400
TZOFFSETTO:-0500
TZNAME:EST
DTSTART:20161106T060000
END:STANDARD
END:VTIMEZONE
BEGIN:VEVENT
DTSTART;TZID=America/New_York:20160209T190000
DTEND;TZID=America/New_York:20160209T230000
DTSTAMP:20260420T145051
CREATED:20160123T170324Z
LAST-MODIFIED:20160123T175755Z
UID:905-1455044400-1455058800@myvintagelove.com
SUMMARY:The Salon: Mardi Gras
DESCRIPTION:The Salon throws many great parties each year\, and the Mardi Gras party on Fat Tuesday is not to be missed! Three floors of live music\, dancing\, burlesque and great cocktails too!  If you can’t make it to New Orleans for Mardi Gras\, this is the next best thing! \nTHE SALON: Mardi Gras\nFat Tuesday – February 9th\, 2016\nDoors open at 7pm // live music all night\, starting at 7:30pm\n21+ (ID required) \nGet tickets and more info at\nwww.TheSalon.biz \nTHE DL\n95 Delancey Street\, NYC\n(Corner of Delancey St & Ludlow St) New York\, NY\nF/J/M/Z subway to Delancey/Essex or B/D to Grand St. \nDRESS CODE – Proper attire requested – Retro Chic\, Vintage\, Suits\, cocktail attire\, or biz casual… think Boardwalk Empire\, Gatsby\, Mad Men. No sweats\, T-Shirts\, baseball hats\, or overly casual attire. Venue Security will have final say on dress code admittance.
URL:http://myvintagelove.com/event/the-salon-mardi-gras/
LOCATION:The DL\, 95 Delancey Street\,  New York\, United States
END:VEVENT
END:VCALENDAR