BEGIN:VCALENDAR
VERSION:2.0
PRODID:-// - ECPv5.2.1//NONSGML v1.0//EN
CALSCALE:GREGORIAN
METHOD:PUBLISH
X-ORIGINAL-URL:http://myvintagelove.com
X-WR-CALDESC:Events for 
BEGIN:VTIMEZONE
TZID:America/New_York
BEGIN:DAYLIGHT
TZOFFSETFROM:-0500
TZOFFSETTO:-0400
TZNAME:EDT
DTSTART:20160313T070000
END:DAYLIGHT
BEGIN:STANDARD
TZOFFSETFROM:-0400
TZOFFSETTO:-0500
TZNAME:EST
DTSTART:20161106T060000
END:STANDARD
END:VTIMEZONE
BEGIN:VEVENT
DTSTART;VALUE=DATE:20160123
DTEND;VALUE=DATE:20160125
DTSTAMP:20260420T201844
CREATED:20151202T225239Z
LAST-MODIFIED:20151202T233058Z
UID:859-1453507200-1453679999@myvintagelove.com
SUMMARY:The NYC Big Flea
DESCRIPTION:The Big Flea NYC is a great vintage show\, where you can get not just vintage clothing and jewelry\, but furniture\, art\, silver and just about any collectible you can think of at one of the 600 booths.. Prices range from reasonable to expensive\, but its totally worth checking out. It takes place at Pier 90 in Manhattan\, and while a bit of a hike from the subway there is a shuttle available. I’ve always found something great here and highly recommend it! \nHours are Saturday 9am-7pm and Sunday 10am-5pm.
URL:http://myvintagelove.com/event/the-nyc-big-flea/
LOCATION:Pier 90\, 711 12th Avenue\, New York\, 10019\, United States
END:VEVENT
END:VCALENDAR