BEGIN:VCALENDAR
VERSION:2.0
PRODID:-// - ECPv5.2.1//NONSGML v1.0//EN
CALSCALE:GREGORIAN
METHOD:PUBLISH
X-ORIGINAL-URL:http://myvintagelove.com
X-WR-CALDESC:Events for 
BEGIN:VTIMEZONE
TZID:America/New_York
BEGIN:DAYLIGHT
TZOFFSETFROM:-0500
TZOFFSETTO:-0400
TZNAME:EDT
DTSTART:20160313T070000
END:DAYLIGHT
BEGIN:STANDARD
TZOFFSETFROM:-0400
TZOFFSETTO:-0500
TZNAME:EST
DTSTART:20161106T060000
END:STANDARD
END:VTIMEZONE
BEGIN:VEVENT
DTSTART;TZID=America/New_York:20160211T190000
DTEND;TZID=America/New_York:20160211T190000
DTSTAMP:20260420T132701
CREATED:20160123T175632Z
LAST-MODIFIED:20160123T175632Z
UID:919-1455217200-1455217200@myvintagelove.com
SUMMARY:The Flapper Revolution: Lecture at the Morbid Anatomy Museum
DESCRIPTION:The story and meaning of the 1920’s Flapper keeps changing. Was the Jazz-Age phenomenon a product of a changing labor market or a reaction against the Puritanical suffragette leaders in league with anti-immigrant and prohibitionist Protestant elite? Was flapperism the harbinger of other sexual revolutions and why did it disappear in the weeks before the Wall Street Crash? \nFind out all of these answers and more in Mel Gordon’s illustrated lecture. \nMel Gordon is the author of “Erik Jan Hanussen: Hitler’s Jewish Clairvoyant”\,”Grand Guiginol: Theatre of Fear and Terror\,” “Voluptuous Panic: The Erotic World of Weimar Berlin\,” and many other books.”oluptuous Panic” was the first in-depth and illustrated book on the topic of erotic Weimar; The lavish tome was praised by academics and inspired the establishment of eight neo-Weimar nightclubs as well as the Dresden Dolls and a Marilyn Manson album. He also teaches directing\, acting\, and history of theater at University of California at Berkeley.
URL:http://myvintagelove.com/event/the-flapper-revolution-lecture-at-the-morbid-anatomy-museum/
LOCATION:The Morbid Anatomy Museum\, 424 3rd Avenue\, Brooklyn\, 11215\, United States
END:VEVENT
END:VCALENDAR