BEGIN:VCALENDAR
VERSION:2.0
PRODID:-// - ECPv5.2.1//NONSGML v1.0//EN
CALSCALE:GREGORIAN
METHOD:PUBLISH
X-ORIGINAL-URL:http://myvintagelove.com
X-WR-CALDESC:Events for 
BEGIN:VTIMEZONE
TZID:America/New_York
BEGIN:DAYLIGHT
TZOFFSETFROM:-0500
TZOFFSETTO:-0400
TZNAME:EDT
DTSTART:20150308T070000
END:DAYLIGHT
BEGIN:STANDARD
TZOFFSETFROM:-0400
TZOFFSETTO:-0500
TZNAME:EST
DTSTART:20151101T060000
END:STANDARD
END:VTIMEZONE
BEGIN:VEVENT
DTSTART;TZID=America/New_York:20151212T210000
DTEND;TZID=America/New_York:20151212T235500
DTSTAMP:20260421T025303
CREATED:20151203T035948Z
LAST-MODIFIED:20151203T035948Z
UID:873-1449954000-1449964500@myvintagelove.com
SUMMARY:The 7th Annual Winter Ball
DESCRIPTION:One of the more luxurious and elaborate winter vintage events\, The Winter Ball is on its 7th year. This year its at it’s swankiest location yet\, the Academy Mansion\, which was built as a private residence in 1921 for a William Ziegler Jr.\, heir to the Royal Baking Powder Company fortune\, and this lost bastion of Jazz Age opulence was shuttered for over half a century until recently. \nThe Michael Arenella Sextet plays a special songbook of Jazz and holiday favorites for your dancing and listening pleasure. \nGuest performances including luminescent chanteuse and accordionist Nicole Renaud and other surprises await. \nAdmission includes premium open bar all night long\, as well as complimentary savory light fare and sweet treats. \nTickets to this event are very limited\, and available only in advance.
URL:http://myvintagelove.com/event/the-7th-annual-winter-ball/
LOCATION:Academy Mansion\, 2 East 63rd Street\, New York\, NY\, 10065\, United States
END:VEVENT
END:VCALENDAR