BEGIN:VCALENDAR
VERSION:2.0
PRODID:-// - ECPv5.2.1//NONSGML v1.0//EN
CALSCALE:GREGORIAN
METHOD:PUBLISH
X-ORIGINAL-URL:http://myvintagelove.com
X-WR-CALDESC:Events for 
BEGIN:VTIMEZONE
TZID:America/New_York
BEGIN:DAYLIGHT
TZOFFSETFROM:-0500
TZOFFSETTO:-0400
TZNAME:EDT
DTSTART:20160313T070000
END:DAYLIGHT
BEGIN:STANDARD
TZOFFSETFROM:-0400
TZOFFSETTO:-0500
TZNAME:EST
DTSTART:20161106T060000
END:STANDARD
END:VTIMEZONE
BEGIN:VEVENT
DTSTART;TZID=America/New_York:20160206T200000
DTEND;TZID=America/New_York:20160206T233000
DTSTAMP:20260420T160641
CREATED:20160123T174311Z
LAST-MODIFIED:20160123T175819Z
UID:913-1454788800-1454801400@myvintagelove.com
SUMMARY:Le Jazz Hot Premieres at The Django
DESCRIPTION:Step back in time to a beautiful swingin’ Parisian Jazz Club at the gorgeous\, vintage inspired DJANGO for a night of swing dancing\, lounging\, superb cocktails\, & delicious small plates! Every week features a different Swing or Hot Jazz band\, plus swing DJs\, special guests\, and variety acts. \nJoin us for our kick-off premiere party on Saturday\, February 6th\, and then every other Tuesday starting Feb 23rd… No Cover! \nLE JAZZ HOT at The Django at The Roxy Hotel\, Two 6th Ave (White St and Church St) \nHot Jazz & Swing Bands paired w/ superb cocktails\npremieres Sat. Feb 6th\, then every other Tuesday (starting Feb. 23rd)\nNO COVER / 21+ to drink \n— Saturday\, February 6th // 8pm to 2:30am —\n* Avalon Jazz Band – playing 3 sets / 9pm to 1am\n* Hazel Honeysuckle – classic burlesque\n* DJ STINA – spinning swing & hot jazz from 8pm to late
URL:http://myvintagelove.com/event/le-jazz-hot-premieres-at-the-django/
LOCATION:The Django\, 2 6th Avenue\, New York\, NY\, United States
END:VEVENT
END:VCALENDAR