BEGIN:VCALENDAR
VERSION:2.0
PRODID:-// - ECPv5.2.1//NONSGML v1.0//EN
CALSCALE:GREGORIAN
METHOD:PUBLISH
X-ORIGINAL-URL:http://myvintagelove.com
X-WR-CALDESC:Events for 
BEGIN:VTIMEZONE
TZID:America/New_York
BEGIN:DAYLIGHT
TZOFFSETFROM:-0500
TZOFFSETTO:-0400
TZNAME:EDT
DTSTART:20150308T070000
END:DAYLIGHT
BEGIN:STANDARD
TZOFFSETFROM:-0400
TZOFFSETTO:-0500
TZNAME:EST
DTSTART:20151101T060000
END:STANDARD
END:VTIMEZONE
BEGIN:VEVENT
DTSTART;TZID=America/New_York:20151213T190000
DTEND;TZID=America/New_York:20151213T230000
DTSTAMP:20260421T001558
CREATED:20151203T212242Z
LAST-MODIFIED:20151203T212242Z
UID:886-1450033200-1450047600@myvintagelove.com
SUMMARY:Greater Boston Vintage Society: Winter Formal
DESCRIPTION:The Greater Boston Vintage Society: Winter Formal takes place in Boston and is organized by our friend Jason Volk who also plans the wonderful Boston Lawn Party each summer. If you’re in or near Boston we highly recommend you attend! \nYou are invited to attend the WINTER FORMAL\, one of Boston’s most spectacular holiday events! This year will take place at the elegant Carrie Nation Restaurant and Cocktail Club in downtown Boston! This 1950’s themed event will bring you back to the glamour and good tidings of holidays past. It will also serve a tribute to two birthdays! The weekend marks the 100th birthday of Frank Sinatra as well as the 2nd year anniversary of the Greater Boston Vintage Society! \nHeadlining the event is the 18-piece Beantown Swing Orchestra! Accompanying them will be John Stevens (of American Idol fame!) singing all the best Sinatra and holiday classics! Included in admission is a free dance lesson\, one free alcoholic drink per guest\, light hors d’oeuvres\, plus save your appetite for cake during the birthday celebration! The night will be packed with entertainment and good cheer\, including a special dance number by the Chifferobe Tropigals! Salmagundi Hats of Boston is sponsoring the event with amazing prizes for the vintage attire contest! This is a (recommended) “black tie” event. Men find your tuxes and ladies let’s see those magnificent gowns! 
URL:http://myvintagelove.com/event/greater-boston-vintage-society-winter-formal/
LOCATION:Carrie Nation Cocktail Club\, 11 Beacon Street\, Boston\, MA\, 02108\, United States
END:VEVENT
END:VCALENDAR