BEGIN:VCALENDAR
VERSION:2.0
PRODID:-// - ECPv5.2.1//NONSGML v1.0//EN
CALSCALE:GREGORIAN
METHOD:PUBLISH
X-ORIGINAL-URL:http://myvintagelove.com
X-WR-CALDESC:Events for 
BEGIN:VTIMEZONE
TZID:America/New_York
BEGIN:DAYLIGHT
TZOFFSETFROM:-0500
TZOFFSETTO:-0400
TZNAME:EDT
DTSTART:20160313T070000
END:DAYLIGHT
BEGIN:STANDARD
TZOFFSETFROM:-0400
TZOFFSETTO:-0500
TZNAME:EST
DTSTART:20161106T060000
END:STANDARD
END:VTIMEZONE
BEGIN:VEVENT
DTSTART;TZID=America/New_York:20160213T210000
DTEND;TZID=America/New_York:20160213T210000
DTSTAMP:20260420T115943
CREATED:20160123T171749Z
LAST-MODIFIED:20160123T175732Z
UID:909-1455397200-1455397200@myvintagelove.com
SUMMARY:Dances of Vice: Carnival of Venice Valentine Masquerade Ball
DESCRIPTION:On the eve of Valentine’s Day\, celebrate sublime sensuality at the Dances of Vice Venetian Grand Masquerade Ball. Traverse our carnivalesque fete for the senses in an opulent four-story private Victorian manse\, where BDSM ballerinas\, acrobats\, jugglers\, royal court dancers and musicians lower your inhibitions and increase your heart rate. \nExplore secret rooms housing cloak-and-dagger deeds and indulge in delicious libations while our fetish dessert service sates your gustatory desires. \nDonning your gilded finest is a must to gain admittance – whether you choose to channel Baroque bondage\, Victorian fantasy\, Ottoman opulence or Rococo royalty – guests who are not appropriately dressed to impress will be turned away at the door. \nwww.dancesofvice.com
URL:http://myvintagelove.com/event/dances-of-vice-carnival-of-venice-valentine-masquerade-ball/
END:VEVENT
END:VCALENDAR